BEGIN:VCALENDAR
VERSION:2.0
PRODID:-//Freedom Chapel NY - ECPv6.15.17.1//NONSGML v1.0//EN
CALSCALE:GREGORIAN
METHOD:PUBLISH
X-WR-CALNAME:Freedom Chapel NY
X-ORIGINAL-URL:https://freedomchapelny.com
X-WR-CALDESC:Events for Freedom Chapel NY
REFRESH-INTERVAL;VALUE=DURATION:PT1H
X-Robots-Tag:noindex
X-PUBLISHED-TTL:PT1H
BEGIN:VTIMEZONE
TZID:UTC
BEGIN:STANDARD
TZOFFSETFROM:+0000
TZOFFSETTO:+0000
TZNAME:UTC
DTSTART:20240101T000000
END:STANDARD
END:VTIMEZONE
BEGIN:VEVENT
DTSTART;TZID=UTC:20251012T100000
DTEND;TZID=UTC:20251012T120000
DTSTAMP:20260424T033420
CREATED:20251013T154646Z
LAST-MODIFIED:20251013T154646Z
UID:35639-1760263200-1760270400@freedomchapelny.com
SUMMARY:Pastor Appreciation
DESCRIPTION:We invite you to show your love and gratitude by preparing a card\, note of encouragement\, or a thoughtful gift for Pastor Julio.
URL:https://freedomchapelny.com/event/pastor-appreciation/
LOCATION:Freedom Chapel\, 489 E Main St\, Jefferson Valley\, NY\, 10535\, United States
ATTACH;FMTTYPE=image/jpeg:https://freedomchapelny.com/wp-content/uploads/2025/10/Pastor-Appreciation.jpg
END:VEVENT
END:VCALENDAR