BEGIN:VCALENDAR
VERSION:2.0
PRODID:-//Freedom Chapel NY - ECPv6.15.17.1//NONSGML v1.0//EN
CALSCALE:GREGORIAN
METHOD:PUBLISH
X-WR-CALNAME:Freedom Chapel NY
X-ORIGINAL-URL:https://freedomchapelny.com
X-WR-CALDESC:Events for Freedom Chapel NY
REFRESH-INTERVAL;VALUE=DURATION:PT1H
X-Robots-Tag:noindex
X-PUBLISHED-TTL:PT1H
BEGIN:VTIMEZONE
TZID:UTC
BEGIN:STANDARD
TZOFFSETFROM:+0000
TZOFFSETTO:+0000
TZNAME:UTC
DTSTART:20240101T000000
END:STANDARD
END:VTIMEZONE
BEGIN:VEVENT
DTSTART;TZID=UTC:20251116T100000
DTEND;TZID=UTC:20251116T120000
DTSTAMP:20260424T135745
CREATED:20251024T195325Z
LAST-MODIFIED:20251111T173855Z
UID:35664-1763287200-1763294400@freedomchapelny.com
SUMMARY:Sunday Worship Service
DESCRIPTION:Join us on Sunday at 10:00am
URL:https://freedomchapelny.com/event/sunday-worship-service-4/
LOCATION:Freedom Chapel\, 489 E Main St\, Jefferson Valley\, NY\, 10535\, United States
CATEGORIES:Sunday
ATTACH;FMTTYPE=image/png:https://freedomchapelny.com/wp-content/uploads/2025/11/SundayWorship_FreedomChapel.png
END:VEVENT
BEGIN:VEVENT
DTSTART;TZID=UTC:20251123T100000
DTEND;TZID=UTC:20251123T120000
DTSTAMP:20260424T135745
CREATED:20251103T182143Z
LAST-MODIFIED:20251103T182143Z
UID:35729-1763892000-1763899200@freedomchapelny.com
SUMMARY:Thanksgiving Service
DESCRIPTION:Join us for a beautiful time of worship and gratitude.
URL:https://freedomchapelny.com/event/thanksgiving-service/
LOCATION:Freedom Chapel\, 489 E Main St\, Jefferson Valley\, NY\, 10535\, United States
CATEGORIES:Special Events,Sunday
ATTACH;FMTTYPE=image/png:https://freedomchapelny.com/wp-content/uploads/2025/11/Freedom-Chapel-Thanksgiving-Service.png
END:VEVENT
BEGIN:VEVENT
DTSTART;TZID=UTC:20251205T180000
DTEND;TZID=UTC:20251205T210000
DTSTAMP:20260424T135745
CREATED:20251119T170725Z
LAST-MODIFIED:20251119T171033Z
UID:35859-1764957600-1764968400@freedomchapelny.com
SUMMARY:First Annual Christmas Dinner
DESCRIPTION:Join us for a night filled with joy\, fellowship\, and celebration as we make memories with our church family and experience the joy of Christmas.
URL:https://freedomchapelny.com/event/first-annual-christmas-dinner/
LOCATION:Four Brother Restaurant\, 654 US-6\, Mahopac\, NY\, 10541\, United States
CATEGORIES:Special Events
ATTACH;FMTTYPE=image/png:https://freedomchapelny.com/wp-content/uploads/2025/11/Christmas-Dinner.png
END:VEVENT
BEGIN:VEVENT
DTSTART;TZID=UTC:20251207T100000
DTEND;TZID=UTC:20251207T120000
DTSTAMP:20260424T135745
CREATED:20251024T195326Z
LAST-MODIFIED:20251111T173846Z
UID:35666-1765101600-1765108800@freedomchapelny.com
SUMMARY:Sunday Worship Service
DESCRIPTION:Join us on Sunday at 10:00am
URL:https://freedomchapelny.com/event/sunday-worship-service-6/
LOCATION:Freedom Chapel\, 489 E Main St\, Jefferson Valley\, NY\, 10535\, United States
CATEGORIES:Sunday
ATTACH;FMTTYPE=image/png:https://freedomchapelny.com/wp-content/uploads/2025/11/SundayWorship_FreedomChapel.png
END:VEVENT
BEGIN:VEVENT
DTSTART;TZID=UTC:20251213T110000
DTEND;TZID=UTC:20251213T130000
DTSTAMP:20260424T135745
CREATED:20251125T214041Z
LAST-MODIFIED:20251125T215026Z
UID:35866-1765623600-1765630800@freedomchapelny.com
SUMMARY:Kids Bowling Event
DESCRIPTION:
URL:https://freedomchapelny.com/event/kids-bowling-event/
LOCATION:Jefferson Valley Lanes\, 3699 Hill Blvd\, Jefferson Valley\, 10535\, United States
CATEGORIES:Special Events
ATTACH;FMTTYPE=image/png:https://freedomchapelny.com/wp-content/uploads/2025/11/FreedomChapelKidsEvent.png
END:VEVENT
BEGIN:VEVENT
DTSTART;TZID=UTC:20251214T100000
DTEND;TZID=UTC:20251214T120000
DTSTAMP:20260424T135745
CREATED:20251024T195330Z
LAST-MODIFIED:20251111T173833Z
UID:35667-1765706400-1765713600@freedomchapelny.com
SUMMARY:Sunday Worship Service
DESCRIPTION:Join us on Sunday at 10:00am
URL:https://freedomchapelny.com/event/sunday-worship-service-7/
LOCATION:Freedom Chapel\, 489 E Main St\, Jefferson Valley\, NY\, 10535\, United States
CATEGORIES:Sunday
ATTACH;FMTTYPE=image/png:https://freedomchapelny.com/wp-content/uploads/2025/11/SundayWorship_FreedomChapel.png
END:VEVENT
BEGIN:VEVENT
DTSTART;TZID=UTC:20251221T100000
DTEND;TZID=UTC:20251221T120000
DTSTAMP:20260424T135745
CREATED:20251024T195330Z
LAST-MODIFIED:20251111T170545Z
UID:35668-1766311200-1766318400@freedomchapelny.com
SUMMARY:Sunday Worship Service
DESCRIPTION:Join us on Sunday at 10:00am
URL:https://freedomchapelny.com/event/sunday-worship-service-8/
LOCATION:Freedom Chapel\, 489 E Main St\, Jefferson Valley\, NY\, 10535\, United States
CATEGORIES:Sunday
ATTACH;FMTTYPE=image/png:https://freedomchapelny.com/wp-content/uploads/2025/11/Christmas-Worship-Celebration.png
END:VEVENT
BEGIN:VEVENT
DTSTART;TZID=UTC:20251224T180000
DTEND;TZID=UTC:20251224T200000
DTSTAMP:20260424T135745
CREATED:20251103T181854Z
LAST-MODIFIED:20251103T181854Z
UID:35705-1766599200-1766606400@freedomchapelny.com
SUMMARY:Christmas Eve Service
DESCRIPTION:Join us as we celebrate the Prince of Peace
URL:https://freedomchapelny.com/event/christmas-eve-service/
LOCATION:Jefferson On The Lake\, 489 E Main St\, Jefferson Valley\, NY\, 10535\, United States
CATEGORIES:Special Events
ATTACH;FMTTYPE=image/png:https://freedomchapelny.com/wp-content/uploads/2025/11/Freedom-Chapel-Christmas-Eve-Service.png
END:VEVENT
BEGIN:VEVENT
DTSTART;TZID=UTC:20251228T100000
DTEND;TZID=UTC:20251228T120000
DTSTAMP:20260424T135745
CREATED:20251024T195330Z
LAST-MODIFIED:20251111T173817Z
UID:35669-1766916000-1766923200@freedomchapelny.com
SUMMARY:Sunday Worship Service
DESCRIPTION:Join us on Sunday at 10:00am
URL:https://freedomchapelny.com/event/sunday-worship-service-9/
LOCATION:Freedom Chapel\, 489 E Main St\, Jefferson Valley\, NY\, 10535\, United States
CATEGORIES:Sunday
ATTACH;FMTTYPE=image/png:https://freedomchapelny.com/wp-content/uploads/2025/11/SundayWorship_FreedomChapel.png
END:VEVENT
BEGIN:VEVENT
DTSTART;VALUE=DATE:20260208
DTEND;VALUE=DATE:20260209
DTSTAMP:20260424T135745
CREATED:20260203T142519Z
LAST-MODIFIED:20260203T142519Z
UID:35879-1770508800-1770595199@freedomchapelny.com
SUMMARY:FC Winter Outreach
DESCRIPTION:Bring 1 or 2 pairs of socks and winter items to service on Sunday\, February 8th. \nHelp those in need by donating new warm socks\, gloves\, hats\, and other winter items.
URL:https://freedomchapelny.com/event/fc-winter-outreach/
LOCATION:Freedom Chapel\, 489 E Main St\, Jefferson Valley\, NY\, 10535\, United States
ATTACH;FMTTYPE=image/jpeg:https://freedomchapelny.com/wp-content/uploads/2026/02/FC-Winter-Outreach.jpg
END:VEVENT
BEGIN:VEVENT
DTSTART;TZID=UTC:20260213T060000
DTEND;TZID=UTC:20260213T200000
DTSTAMP:20260424T135745
CREATED:20260203T143019Z
LAST-MODIFIED:20260203T143019Z
UID:35884-1770962400-1771012800@freedomchapelny.com
SUMMARY:Men & Womens Fellowship - Game Night
DESCRIPTION:Open to all Kingmen and Daughters of Freedom! \nJoin us at Freedom Chapel for a night of fellowship and fun. \n“Where people find fredom in Christ”
URL:https://freedomchapelny.com/event/men-womens-fellowship-game-night/
LOCATION:Freedom Chapel\, 489 E Main St\, Jefferson Valley\, NY\, 10535\, United States
CATEGORIES:Special Events
ATTACH;FMTTYPE=image/png:https://freedomchapelny.com/wp-content/uploads/2026/02/image-1.png
END:VEVENT
BEGIN:VEVENT
DTSTART;TZID=UTC:20260216T050000
DTEND;TZID=UTC:20260216T190000
DTSTAMP:20260424T135745
CREATED:20260203T142247Z
LAST-MODIFIED:20260203T142247Z
UID:35876-1771218000-1771268400@freedomchapelny.com
SUMMARY:Pastor's Pizza Party!
DESCRIPTION:
URL:https://freedomchapelny.com/event/pastors-pizza-party/
LOCATION:The Avalon\, 49 Clayton Blvd\, Baldwin Place\, 10505\, United States
CATEGORIES:Special Events
ATTACH;FMTTYPE=image/jpeg:https://freedomchapelny.com/wp-content/uploads/2026/02/image.jpeg
END:VEVENT
BEGIN:VEVENT
DTSTART;VALUE=DATE:20260218
DTEND;VALUE=DATE:20260219
DTSTAMP:20260424T135745
CREATED:20260203T142831Z
LAST-MODIFIED:20260203T142831Z
UID:35881-1771372800-1771459199@freedomchapelny.com
SUMMARY:Snow Tubing for FC Kids
DESCRIPTION:
URL:https://freedomchapelny.com/event/snow-tubing-for-fc-kids/
LOCATION:Fahnestock Winter Park\, 1570 NY-301\, Carmel Hamlet\, 10512\, United States
CATEGORIES:Special Events
ATTACH;FMTTYPE=image/png:https://freedomchapelny.com/wp-content/uploads/2026/02/image.png
END:VEVENT
BEGIN:VEVENT
DTSTART;TZID=UTC:20260315T100000
DTEND;TZID=UTC:20260315T120000
DTSTAMP:20260424T135745
CREATED:20260203T143158Z
LAST-MODIFIED:20260203T143158Z
UID:35886-1773568800-1773576000@freedomchapelny.com
SUMMARY:1st Anniversary Celebration
DESCRIPTION:Save the Date \nBring our family\, friends\, and neighbors as we celebrate One Year of FC!
URL:https://freedomchapelny.com/event/1st-anniversary-celebration/
LOCATION:NY
ATTACH;FMTTYPE=image/png:https://freedomchapelny.com/wp-content/uploads/2026/02/1st-Anniversary-Freedom-Chapel.png
END:VEVENT
END:VCALENDAR