BEGIN:VCALENDAR
VERSION:2.0
PRODID:-//Freedom Chapel NY - ECPv6.15.17.1//NONSGML v1.0//EN
CALSCALE:GREGORIAN
METHOD:PUBLISH
X-ORIGINAL-URL:https://freedomchapelny.com
X-WR-CALDESC:Events for Freedom Chapel NY
REFRESH-INTERVAL;VALUE=DURATION:PT1H
X-Robots-Tag:noindex
X-PUBLISHED-TTL:PT1H
BEGIN:VTIMEZONE
TZID:UTC
BEGIN:STANDARD
TZOFFSETFROM:+0000
TZOFFSETTO:+0000
TZNAME:UTC
DTSTART:20240101T000000
END:STANDARD
END:VTIMEZONE
BEGIN:VEVENT
DTSTART;TZID=UTC:20250913T090000
DTEND;TZID=UTC:20250913T120000
DTSTAMP:20260424T033815
CREATED:20250911T222755Z
LAST-MODIFIED:20250911T222817Z
UID:35610-1757754000-1757764800@freedomchapelny.com
SUMMARY:Men's Fellowship Breakfast
DESCRIPTION:Join us on Saturday\, September 13 at 9am for a Men’s Fellowship Breakfast. \n 
URL:https://freedomchapelny.com/event/mens-fellowship-breakfast/
LOCATION:Freedom Chapel\, 489 E Main St\, Jefferson Valley\, NY\, 10535\, United States
CATEGORIES:Special Events
ATTACH;FMTTYPE=image/jpeg:https://freedomchapelny.com/wp-content/uploads/2025/09/FC-Mens-Fellowship.jpg
END:VEVENT
BEGIN:VEVENT
DTSTART;TZID=UTC:20250914T100000
DTEND;TZID=UTC:20250914T120000
DTSTAMP:20260424T033815
CREATED:20250721T205146Z
LAST-MODIFIED:20251111T173934Z
UID:35583-1757844000-1757851200@freedomchapelny.com
SUMMARY:Sunday Service
DESCRIPTION:Experience God’s presence at church this Sunday
URL:https://freedomchapelny.com/event/sunday-service-2/
LOCATION:Freedom Chapel\, 489 E Main St\, Jefferson Valley\, NY\, 10535\, United States
CATEGORIES:Sunday
ATTACH;FMTTYPE=image/png:https://freedomchapelny.com/wp-content/uploads/2025/11/SundayWorship_FreedomChapel.png
END:VEVENT
BEGIN:VEVENT
DTSTART;TZID=UTC:20250927T053000
DTEND;TZID=UTC:20250927T200000
DTSTAMP:20260424T033815
CREATED:20250917T205116Z
LAST-MODIFIED:20250917T205116Z
UID:35613-1758951000-1759003200@freedomchapelny.com
SUMMARY:Daughters of Freedom
DESCRIPTION:Join us for the Daughters of Freedom “Paint Night Fellowship” at Sparkle Lake Clubhouse \nText (917) 208-9724 to Register!
URL:https://freedomchapelny.com/event/daughters-of-freedom/
LOCATION:Sparkle Lake Clubhouse\, 176 Granite Spring Rd\, Yorktown Heights\, NY\, 10598\, United States
ATTACH;FMTTYPE=image/png:https://freedomchapelny.com/wp-content/uploads/2025/06/FC-Daighter-of-Freedom.png
END:VEVENT
END:VCALENDAR