BEGIN:VCALENDAR
VERSION:2.0
PRODID:-//Freedom Chapel NY - ECPv6.15.17.1//NONSGML v1.0//EN
CALSCALE:GREGORIAN
METHOD:PUBLISH
X-ORIGINAL-URL:https://freedomchapelny.com
X-WR-CALDESC:Events for Freedom Chapel NY
REFRESH-INTERVAL;VALUE=DURATION:PT1H
X-Robots-Tag:noindex
X-PUBLISHED-TTL:PT1H
BEGIN:VTIMEZONE
TZID:UTC
BEGIN:STANDARD
TZOFFSETFROM:+0000
TZOFFSETTO:+0000
TZNAME:UTC
DTSTART:20240101T000000
END:STANDARD
END:VTIMEZONE
BEGIN:VEVENT
DTSTART;TZID=UTC:20251005T170000
DTEND;TZID=UTC:20251005T210000
DTSTAMP:20260424T033816
CREATED:20250929T191504Z
LAST-MODIFIED:20250929T191504Z
UID:35620-1759683600-1759698000@freedomchapelny.com
SUMMARY:Freedom Chapel - Special Guest: Pastor Rafael Agosto
DESCRIPTION:Join us for a special event on Saturday\, October 5th at 5pm with Special Guest Pastor Rafael Agosto\nFor more information contact us at freedomchapelinfo@gmail.com or (914) 208-9724.
URL:https://freedomchapelny.com/event/freedom-chapel-special-guest-pastor-rafael-agosto/
LOCATION:Freedom Chapel\, 489 E Main St\, Jefferson Valley\, NY\, 10535\, United States
ATTACH;FMTTYPE=image/jpeg:https://freedomchapelny.com/wp-content/uploads/2025/09/81740A6A-1958-4A42-A44C-080011FD0F4C.jpg
END:VEVENT
BEGIN:VEVENT
DTSTART;TZID=UTC:20251012T100000
DTEND;TZID=UTC:20251012T120000
DTSTAMP:20260424T033816
CREATED:20251013T154646Z
LAST-MODIFIED:20251013T154646Z
UID:35639-1760263200-1760270400@freedomchapelny.com
SUMMARY:Pastor Appreciation
DESCRIPTION:We invite you to show your love and gratitude by preparing a card\, note of encouragement\, or a thoughtful gift for Pastor Julio.
URL:https://freedomchapelny.com/event/pastor-appreciation/
LOCATION:Freedom Chapel\, 489 E Main St\, Jefferson Valley\, NY\, 10535\, United States
ATTACH;FMTTYPE=image/jpeg:https://freedomchapelny.com/wp-content/uploads/2025/10/Pastor-Appreciation.jpg
END:VEVENT
BEGIN:VEVENT
DTSTART;TZID=UTC:20251026T100000
DTEND;TZID=UTC:20251026T120000
DTSTAMP:20260424T033816
CREATED:20251021T134031Z
LAST-MODIFIED:20251111T173923Z
UID:35647-1761472800-1761480000@freedomchapelny.com
SUMMARY:Sunday Worship Service
DESCRIPTION:
URL:https://freedomchapelny.com/event/sunday-worship-service/
LOCATION:Freedom Chapel\, 489 E Main St\, Jefferson Valley\, NY\, 10535\, United States
ATTACH;FMTTYPE=image/png:https://freedomchapelny.com/wp-content/uploads/2025/11/SundayWorship_FreedomChapel.png
END:VEVENT
BEGIN:VEVENT
DTSTART;TZID=UTC:20251029T183000
DTEND;TZID=UTC:20251029T210000
DTSTAMP:20260424T033816
CREATED:20251024T194706Z
LAST-MODIFIED:20251029T160734Z
UID:35658-1761762600-1761771600@freedomchapelny.com
SUMMARY:Prayer & Bible Study
DESCRIPTION:Prayer begins at 6:30PM – Study starts off at 7:00PM Let’s seek God together\, go deeper in His Word\, and grow as a family of faith.
URL:https://freedomchapelny.com/event/prayer-bible-study/
LOCATION:Freedom Chapel\, 489 E Main St\, Jefferson Valley\, NY\, 10535\, United States
CATEGORIES:Bible Study
ATTACH;FMTTYPE=image/png:https://freedomchapelny.com/wp-content/uploads/2025/10/FreedomChapel_BIble-Studies.png
END:VEVENT
END:VCALENDAR