BEGIN:VCALENDAR
VERSION:2.0
PRODID:-//Freedom Chapel NY - ECPv6.15.17.1//NONSGML v1.0//EN
CALSCALE:GREGORIAN
METHOD:PUBLISH
X-WR-CALNAME:Freedom Chapel NY
X-ORIGINAL-URL:https://freedomchapelny.com
X-WR-CALDESC:Events for Freedom Chapel NY
REFRESH-INTERVAL;VALUE=DURATION:PT1H
X-Robots-Tag:noindex
X-PUBLISHED-TTL:PT1H
BEGIN:VTIMEZONE
TZID:UTC
BEGIN:STANDARD
TZOFFSETFROM:+0000
TZOFFSETTO:+0000
TZNAME:UTC
DTSTART:20250101T000000
END:STANDARD
END:VTIMEZONE
BEGIN:VEVENT
DTSTART;TZID=UTC:20260315T100000
DTEND;TZID=UTC:20260315T120000
DTSTAMP:20260423T181459
CREATED:20260203T143158Z
LAST-MODIFIED:20260203T143158Z
UID:35886-1773568800-1773576000@freedomchapelny.com
SUMMARY:1st Anniversary Celebration
DESCRIPTION:Save the Date \nBring our family\, friends\, and neighbors as we celebrate One Year of FC!
URL:https://freedomchapelny.com/event/1st-anniversary-celebration/
ATTACH;FMTTYPE=image/png:https://freedomchapelny.com/wp-content/uploads/2026/02/1st-Anniversary-Freedom-Chapel.png
END:VEVENT
END:VCALENDAR